BEGIN:VCALENDAR
VERSION:2.0
PRODID:-//Ohana Health and Wellness - ECPv6.15.20//NONSGML v1.0//EN
CALSCALE:GREGORIAN
METHOD:PUBLISH
X-ORIGINAL-URL:https://ohanawellness.ca
X-WR-CALDESC:Events for Ohana Health and Wellness
REFRESH-INTERVAL;VALUE=DURATION:PT1H
X-Robots-Tag:noindex
X-PUBLISHED-TTL:PT1H
BEGIN:VTIMEZONE
TZID:America/Toronto
BEGIN:DAYLIGHT
TZOFFSETFROM:-0500
TZOFFSETTO:-0400
TZNAME:EDT
DTSTART:20240310T070000
END:DAYLIGHT
BEGIN:STANDARD
TZOFFSETFROM:-0400
TZOFFSETTO:-0500
TZNAME:EST
DTSTART:20241103T060000
END:STANDARD
BEGIN:DAYLIGHT
TZOFFSETFROM:-0500
TZOFFSETTO:-0400
TZNAME:EDT
DTSTART:20250309T070000
END:DAYLIGHT
BEGIN:STANDARD
TZOFFSETFROM:-0400
TZOFFSETTO:-0500
TZNAME:EST
DTSTART:20251102T060000
END:STANDARD
BEGIN:DAYLIGHT
TZOFFSETFROM:-0500
TZOFFSETTO:-0400
TZNAME:EDT
DTSTART:20260308T070000
END:DAYLIGHT
BEGIN:STANDARD
TZOFFSETFROM:-0400
TZOFFSETTO:-0500
TZNAME:EST
DTSTART:20261101T060000
END:STANDARD
END:VTIMEZONE
BEGIN:VEVENT
DTSTART;TZID=America/Toronto:20251019T123000
DTEND;TZID=America/Toronto:20251019T160000
DTSTAMP:20260425T063048
CREATED:20250802T194412Z
LAST-MODIFIED:20250905T182832Z
UID:1415-1760877000-1760889600@ohanawellness.ca
SUMMARY:Dharma Breath with Jacqui Tracy
DESCRIPTION:𝐀𝐛𝐨𝐮𝐭 𝐃𝐡𝐚𝐫𝐦𝐚 𝐁𝐫𝐞𝐚𝐭𝐡®\nStress and tension often cause us to hold our breath and repress our feelings. Over time\, these accumulated feelings demand increasing amounts of energy to suppress\, creating a debt in the vitality we bring to our lives.\n\n\nDharma Breath® accesses vast amounts of energy that can be transformed into your desires. Tom Lodge explains\, “Focusing on the trauma gives it energy. Understanding the event is not necessary to eliminate its effect.” He references R.D. Laing\, who said\, “Obsession with past events is like a person in a dungeon. The door is open for them to walk out\, yet they choose to stay until they can figure out how they got there.”\n\n\nDharma Breath® provides a practical technique that you can use at home to relieve and manage stress. It encourages you to embrace the present moment and live life to the fullest\, as we all deserve.\n\n\nFeedback from those who have participated in Ayahuasca (Iowaska) ceremonies reveals that Dharma Breath® achieved even more for them personally in terms of expanding their consciousness—without any side effects. Conscious breathing connects us to our spirit\, fostering clarity and peace.\n\n\n𝐀𝐛𝐨𝐮𝐭 𝐭𝐡𝐞 𝐅𝐚𝐜𝐢𝐥𝐢𝐭𝐚𝐭𝐨𝐫\nJacqui Tracy\, a Registered Master of Dharma Breath®\, brings over three decades of experience to this transformative practice. She is dedicated to sharing her wisdom and insights\, nurturing growth in students of all ages.\n\n\n𝑹𝒆𝒂𝒅𝒚 𝒕𝒐 𝒆𝒎𝒃𝒂𝒓𝒌 𝒐𝒏 𝒕𝒉𝒊𝒔 𝒊𝒏𝒄𝒓𝒆𝒅𝒊𝒃𝒍𝒆 𝒋𝒐𝒖𝒓𝒏𝒆𝒚?\n\n\nTo register\, please email:\n𝐫𝐚𝐯𝐞𝐧𝐰𝐨𝐨𝐝.𝐫𝐞𝐭𝐫𝐞𝐚𝐭@𝐠𝐦𝐚𝐢𝐥.𝐜𝐨𝐦\n\n\nJoin us and let Dharma Breath® guide you toward a deeper connection with yourself and the present moment!
URL:https://ohanawellness.ca/event/dharma-breath-with-jacqui-tracy/
LOCATION:ON
END:VEVENT
END:VCALENDAR