BEGIN:VCALENDAR
VERSION:2.0
PRODID:-//Ohana Health and Wellness - ECPv6.15.20//NONSGML v1.0//EN
CALSCALE:GREGORIAN
METHOD:PUBLISH
X-ORIGINAL-URL:https://ohanawellness.ca
X-WR-CALDESC:Events for Ohana Health and Wellness
REFRESH-INTERVAL;VALUE=DURATION:PT1H
X-Robots-Tag:noindex
X-PUBLISHED-TTL:PT1H
BEGIN:VTIMEZONE
TZID:America/Toronto
BEGIN:DAYLIGHT
TZOFFSETFROM:-0500
TZOFFSETTO:-0400
TZNAME:EDT
DTSTART:20250309T070000
END:DAYLIGHT
BEGIN:STANDARD
TZOFFSETFROM:-0400
TZOFFSETTO:-0500
TZNAME:EST
DTSTART:20251102T060000
END:STANDARD
BEGIN:DAYLIGHT
TZOFFSETFROM:-0500
TZOFFSETTO:-0400
TZNAME:EDT
DTSTART:20260308T070000
END:DAYLIGHT
BEGIN:STANDARD
TZOFFSETFROM:-0400
TZOFFSETTO:-0500
TZNAME:EST
DTSTART:20261101T060000
END:STANDARD
BEGIN:DAYLIGHT
TZOFFSETFROM:-0500
TZOFFSETTO:-0400
TZNAME:EDT
DTSTART:20270314T070000
END:DAYLIGHT
BEGIN:STANDARD
TZOFFSETFROM:-0400
TZOFFSETTO:-0500
TZNAME:EST
DTSTART:20271107T060000
END:STANDARD
END:VTIMEZONE
BEGIN:VEVENT
DTSTART;TZID=America/Toronto:20260118T090000
DTEND;TZID=America/Toronto:20260118T170000
DTSTAMP:20260424T152254
CREATED:20260110T210137Z
LAST-MODIFIED:20260110T210325Z
UID:3427-1768726800-1768755600@ohanawellness.ca
SUMMARY:Moon Goddess Paint Day!
DESCRIPTION:Special Pop-up Paint Day\n“Moon Goddess”\nwith Margie Bettiol\nArtist & Holistic Health Practitioner \nThis “Paint Night” is being held on the day of the New Moon. The significance of the new moon in many ancient practices\, is that it is considered to be a time/opportunity to consider a new beginning\, maybe to some part of a person’s life\, or perhaps\, persona. Doing this moon painting on this day has a two-fold intention: to produce a painting representative of a person’s intent for this new moon and to bring a ‘Moon Goddess’ into being. The photo shows a blue background\, however you will be able to paint any colour of background. \nMargie Bettiol is an accredited Intentional Creativity® teacher and intuitive healer who facilitates trans-formative art experiences primarily and is new to our area. For well over 20 yrs Margie has been organizes workshops & retreats. Her practice focuses on guiding women through “soulful\, healing experiences” that merges traditional wisdom with modern artistic expression. \nDate: Sunday\, January 18\, 2026\nTime: 9am to 5pm\nCost: $95.00 per participant\nCost includes art supplies & a day of instruction\n*** Bring your lunch\, a smile & your creative spark\nNo need for any art experience \nTo learn more call or text 807-621-5231\nfor payment e-transfer: margie@margiebettiol.ca
URL:https://ohanawellness.ca/event/moon-goddess-paint-night/
LOCATION:Ohana Health and Wellness\, 1436 Main st N\, Callander\, ON\, P0H1H0\, Canada
END:VEVENT
BEGIN:VEVENT
DTSTART;TZID=America/Toronto:20260118T130000
DTEND;TZID=America/Toronto:20260118T150000
DTSTAMP:20260424T152254
CREATED:20251015T164128Z
LAST-MODIFIED:20260113T154314Z
UID:2560-1768741200-1768748400@ohanawellness.ca
SUMMARY:Breathe w Me - Tanya De 
DESCRIPTION:A Journey Within – Group Conscious Connected Breathwork Session\nNext Session: Sunday Jan 18\, Feb 8\, March 15 (1pm – 3pm) \nContact me to register: breathewithmetanyade@gmail.com or 705 845 1549 \nNo experience necessary. \nSliding scale payment option: pay what you can \nPayment suggestion: $40–80 \nGroup size: 10–12 people \nHave you ever noticed the more you try to FORCE outcomes\, relationships\, feelings\, energy\, healing\, etc. — the farther away you seem to be from the “desired” outcome? \nIn my life\, I notice that when I am forcing things and holding tight\, it is coming from a deep-seated place of anxiety and fear. Not only does the journey of this feel clunky\, angsty\, and rigid — the outcome never satisfies either. \nHowever\, when I lean into my breathwork practice and other supportive practices that connect me home to my inner peace\, inner trust\, and inner balance\, my fear and my need to control subside. Subsequently\, my ability to flow and trust brims with energy; my existence into the flow becomes alive and begins to move with grace into abundance. \nLooking forward to breathing with YOU!
URL:https://ohanawellness.ca/event/breathe-w-me-tanya-de-2/
LOCATION:Ohana Health and Wellness\, 1436 Main st N\, Callander\, ON\, P0H1H0\, Canada
ATTACH;FMTTYPE=image/jpeg:https://ohanawellness.ca/wp-content/uploads/2025/12/Breathe-w-Me.jpg
END:VEVENT
END:VCALENDAR