BEGIN:VCALENDAR
VERSION:2.0
PRODID:-//Ohana Health and Wellness - ECPv6.15.20//NONSGML v1.0//EN
CALSCALE:GREGORIAN
METHOD:PUBLISH
X-WR-CALNAME:Ohana Health and Wellness
X-ORIGINAL-URL:https://ohanawellness.ca
X-WR-CALDESC:Events for Ohana Health and Wellness
REFRESH-INTERVAL;VALUE=DURATION:PT1H
X-Robots-Tag:noindex
X-PUBLISHED-TTL:PT1H
BEGIN:VTIMEZONE
TZID:America/Toronto
BEGIN:DAYLIGHT
TZOFFSETFROM:-0500
TZOFFSETTO:-0400
TZNAME:EDT
DTSTART:20240310T070000
END:DAYLIGHT
BEGIN:STANDARD
TZOFFSETFROM:-0400
TZOFFSETTO:-0500
TZNAME:EST
DTSTART:20241103T060000
END:STANDARD
BEGIN:DAYLIGHT
TZOFFSETFROM:-0500
TZOFFSETTO:-0400
TZNAME:EDT
DTSTART:20250309T070000
END:DAYLIGHT
BEGIN:STANDARD
TZOFFSETFROM:-0400
TZOFFSETTO:-0500
TZNAME:EST
DTSTART:20251102T060000
END:STANDARD
BEGIN:DAYLIGHT
TZOFFSETFROM:-0500
TZOFFSETTO:-0400
TZNAME:EDT
DTSTART:20260308T070000
END:DAYLIGHT
BEGIN:STANDARD
TZOFFSETFROM:-0400
TZOFFSETTO:-0500
TZNAME:EST
DTSTART:20261101T060000
END:STANDARD
END:VTIMEZONE
BEGIN:VEVENT
DTSTART;TZID=America/Toronto:20250926T183000
DTEND;TZID=America/Toronto:20250926T200000
DTSTAMP:20260424T201543
CREATED:20250906T194450Z
LAST-MODIFIED:20250906T194450Z
UID:2095-1758911400-1758916800@ohanawellness.ca
SUMMARY:Women’s Circle: Introduction to Full Moon Ceremonies
DESCRIPTION:This is simply an opportunity to share information to my approach to Full Moon Ceremonies. There is no commitment to join. I will be holding full moon ceremonies at OHANA monthly for a small group of 10 women. I have been involved in Full Moon Ceremonies for many years and over time I have redesigned them to really focus on individual personal healing. These ceremonies are for those of us who are on a path of conscious change using intention as a guide. This gathering today is simply to share my process. Once we have a group committed to the process\, we will take time initially to ensure that each of us has clear direction. For now\, I am just sharing the process to see if anyone might be interested in joining. \nOHANA: Friday\, September 26 6:30-7:30/8pm STUDIO
URL:https://ohanawellness.ca/event/womens-circle-introduction-to-full-moon-ceremonies/
LOCATION:ON
ATTACH;FMTTYPE=image/jpeg:https://ohanawellness.ca/wp-content/uploads/2025/09/IMG_1127-scaled.jpeg
END:VEVENT
BEGIN:VEVENT
DTSTART;TZID=America/Toronto:20250925T170000
DTEND;TZID=America/Toronto:20250925T210000
DTSTAMP:20260424T201543
CREATED:20250906T194258Z
LAST-MODIFIED:20250910T131204Z
UID:2093-1758819600-1758834000@ohanawellness.ca
SUMMARY:House of Hearts: Intentional Creativity Painting
DESCRIPTION:First\, no painting experience is required for any of my courses. This is a whole different approach to painting. We will start with a red Thread circle and we will finish the day with a red thread circle. \nSetting the intention for painting is primary. House is a metaphor for “you”. I will guide you through a process to consider “what is in your house /heart?” From there\, I will guide you through a process to consider where you go from here. You will set intention for what you hope to achieve\, you will draw an energy oracle card for guidance\, I will lead you through a guided drum journey with the intent to help bring information/guidance for what you need to know. This will help develop the last part of the painting. \nContact Margie: 807-621-5231 \nOHANA: Thursday\, September 25 5-9pm KITCHEN\, main floor.
URL:https://ohanawellness.ca/event/house-of-hearts-intentional-creativity-painting/
LOCATION:Ohana Health and Wellness\, 1436 Main st N\, Callander\, ON\, P0H1H0\, Canada
ATTACH;FMTTYPE=image/jpeg:https://ohanawellness.ca/wp-content/uploads/2025/09/IMG_1133-scaled.jpeg
END:VEVENT
BEGIN:VEVENT
DTSTART;TZID=America/Toronto:20250922T100000
DTEND;TZID=America/Toronto:20250927T153000
DTSTAMP:20260424T201543
CREATED:20250827T125803Z
LAST-MODIFIED:20250923T164706Z
UID:1823-1758535200-1758987000@ohanawellness.ca
SUMMARY:Karma Week!
DESCRIPTION:Karma Week – our offer to you. The majority of the content is offered free of charge because we enjoy you participating with us. \nSchedule for Karma Week Sept 2025 – check our calendar for updates: \nMonday September 22nd\n10:00 to 11:00 am Building Strength Yoga & Weights – Beth Hewson studio\n5:30 to 6:30 pm Myofascial Release Yoga with Nicky Poulin – studio\n6:45 to 7:45 pm Thai Massage & Yoga – Studio with Nicky Poulin & Janice Allison ***specialty class\n\n  \nTuesday September 23rd \nAll day: Meet and Greet with Margie Bettiol – Contact for appointment \n10:00 to 11:00 am Beginner Restorative Round-body Yoga with Nicky Poulin \n6:00 to 7:00 pm Bungie Fitness Joanne & Kayla ( 60 min) *** Register with Joanne\n7:15 to 8:15 pm Bungie Fitness Joanne & Kayla ( 60 min) *** Register with Joanne \n\n\nWednesday September 24th \n10:00 to 11:00 am Chair Yoga with Nicky Poulin \n11:15 am -12:15 Myofascial Release Yoga with Nicky  \n5:00 to 9:00 pm House of Hearts: Intentional Creativity Painting with Margie Bettiol (registration needed)\n6:00 to 7:30 pm Beginner Restorative Round-body Yoga with Nicky Poulin \n\n\nThursday September 25th \n10:00 to 11:00 am Thai Massage & Yoga – Studio with Nicky Poulin & Janice Allison \n6:00 PM to 7:00 PM Mindful Movers kids yoga with Lauren – Loft \n7PM to 8 PM Suspension Yoga for Beginners with Shawna (Studio) \n\nFriday September 26th\n9:45 to 11:00 am Bhakti Flow Yoga with Nicky Poulin\n11:00 to 12:00 am Chair Yoga with Janice Allison\n6:30-9:00 PM Women’s Circle: Introduction to Full Moon Ceremonies with Margie\n7:00 to 8:30 PM Breath with Tanya (Loft)\n\n\nSaturday September 27th \n10:00 to 12:00 pm Morning Yoga a medley of styles\n1:00 to 3:30 pm Meet Our Practitioners \n7:00 PM Crystal Sound HJourney with David Hickey (Paid) \n\nSimple Close & Thank you
URL:https://ohanawellness.ca/event/karma-week/
LOCATION:ON
END:VEVENT
BEGIN:VEVENT
DTSTART;TZID=America/Toronto:20250920T100000
DTEND;TZID=America/Toronto:20250921T170000
DTSTAMP:20260424T201543
CREATED:20250707T162722Z
LAST-MODIFIED:20250916T131250Z
UID:1068-1758362400-1758474000@ohanawellness.ca
SUMMARY:Ohana Opening Weekend!
DESCRIPTION:Ohana Open House!\nWe are growing and evolving – come join us to celebrate. Feel free to join for whatever resonates with you. \nFull Schedule\nSaturday September 20th\n10:00 to 10:30 am Opening Salutations\n10:30 to 12:00 pm Morning Yoga a medley of styles\n12:00 to 1:30 pm lunch mix & mingle – Lunch brought by Northern Himalayan Cafe\n1:30 to 3:00 pm Love as Medicine Seminar – Larry Nusbaum MD\n1:30 to 3:00 pm Satsang: Discovering the Treasure beyond Measure  – Walter Cecchini – Loft\n3:00 pm to 5:00 pm Workshop for Fire Cider Preparation and Demonstration – Margie Bettiol – Kitchen\n3:45 pm to 5:00 pm  Anxiety Warrior Seminar – Elke Scholz – Studio\n5:30 to 7:00 pm Potluck Dinner – Bring food or just show up and eat!\n7:00 to 10:00 pm\nReading by Denis Stokes\nInstruments of Mass Percussion with Larry Nusbaum  (if you want\, bring your drums or sounds makers)\nConcert by Rose-Erin Stokes \nSunday September 21st \n9:30 to 11:30 am Morning Tea and Chat – Kitchen\n9:30 to 10:30 am Suspension Yoga for Children with Exceptionalities\n11:00 to 12:00 am Suspension Yoga for beginners  – Studio\n10:00 to 11:00 am Morning Meditation\, Breath\, Sound & Mindfulness with Nicky – loft\n12:00-2:00 PM – Cooking Demonstration and Aryuveda Teaching with Laxmi Konwar of Northern Himalayan Cafe\n2:15 PM – 3:15 PM – Grounding Yoga – Alex Albert\n3:15 to 4:45pm Question & Answer… Panel Discussion: what does your healthy community look like? – studio \n4:45-5:00pm Closing! \n\nKarma Week to Follow – most classes are complimentary \n  \nLocation: Ohana Yoga & Wellness Centre\n1436 Main St. N. Callander ON P0H 1H0\n705 752 0294 or text705 493 0692\ncommunity@ohanawellness.ca
URL:https://ohanawellness.ca/event/ohana-opening-weekend/
LOCATION:Ohana Health and Wellness\, 1436 Main st N\, Callander\, ON\, P0H1H0\, Canada
ATTACH;FMTTYPE=image/jpeg:https://ohanawellness.ca/wp-content/uploads/2025/09/Ohana-Opening-Poster-scaled.jpg
END:VEVENT
BEGIN:VEVENT
DTSTART;TZID=America/Toronto:20250828T193000
DTEND;TZID=America/Toronto:20250828T213000
DTSTAMP:20260424T201543
CREATED:20250605T234524Z
LAST-MODIFIED:20250805T122503Z
UID:245-1756409400-1756416600@ohanawellness.ca
SUMMARY:Crystal Journey Sonic Sound Concert
DESCRIPTION:CRYSTAL JOURNEY SONIC SOUND CONCERT\nwith David Hickey\nLocation: Ohana Yoga & Wellness Centre \nThursday August 28th\, 2025 \n7:30 pm to 9:30 pm \nImmerse yourself in a one-of-a-kind sonic experience with Crystal Journey—a deeply meditative and healing sound journey led by David. \n🌀 What to Expect:✨ Two mesmerizing 40-50 minute sets✨ A powerful arrangement of 6 Quartz Crystal Bowls\, 8-10 Paiste Planet Gongs\, 2 Santoors & Harmonica✨ Spontaneous\, soul-stirring harmonized chants✨ No amplification\, no pre-recordings\, no rehearsals—each performance is pure\, unique\, and intuitively improvised \nLet the vibrations wash over you\, guiding you into deep relaxation\, healing\, and transformation. \n🔗 Learn more: www.crystaljourney.ca \n🧘 What to Bring: A yoga mat & blanket (If you don’t have these\, Ohana will provide them.) \nCome as you are\, and let the sounds carry you. \nTo register and pay now\, please click the link below: \nhttps://square.link/u/kmcT3FgY\nTo register and pay at the door please click the link below: \nhttps://forms.gle/8atr8hz5ACAwPogG7
URL:https://ohanawellness.ca/event/crystal-journey-sonic-sound-concert/
LOCATION:ON
ATTACH;FMTTYPE=image/jpeg:https://ohanawellness.ca/wp-content/uploads/2025/06/Ohana-Aug-28-with-QR-code.jpg
END:VEVENT
END:VCALENDAR