BEGIN:VCALENDAR
VERSION:2.0
PRODID:-//Ohana Health and Wellness - ECPv6.15.20//NONSGML v1.0//EN
CALSCALE:GREGORIAN
METHOD:PUBLISH
X-WR-CALNAME:Ohana Health and Wellness
X-ORIGINAL-URL:https://ohanawellness.ca
X-WR-CALDESC:Events for Ohana Health and Wellness
REFRESH-INTERVAL;VALUE=DURATION:PT1H
X-Robots-Tag:noindex
X-PUBLISHED-TTL:PT1H
BEGIN:VTIMEZONE
TZID:America/Toronto
BEGIN:DAYLIGHT
TZOFFSETFROM:-0500
TZOFFSETTO:-0400
TZNAME:EDT
DTSTART:20240310T070000
END:DAYLIGHT
BEGIN:STANDARD
TZOFFSETFROM:-0400
TZOFFSETTO:-0500
TZNAME:EST
DTSTART:20241103T060000
END:STANDARD
BEGIN:DAYLIGHT
TZOFFSETFROM:-0500
TZOFFSETTO:-0400
TZNAME:EDT
DTSTART:20250309T070000
END:DAYLIGHT
BEGIN:STANDARD
TZOFFSETFROM:-0400
TZOFFSETTO:-0500
TZNAME:EST
DTSTART:20251102T060000
END:STANDARD
BEGIN:DAYLIGHT
TZOFFSETFROM:-0500
TZOFFSETTO:-0400
TZNAME:EDT
DTSTART:20260308T070000
END:DAYLIGHT
BEGIN:STANDARD
TZOFFSETFROM:-0400
TZOFFSETTO:-0500
TZNAME:EST
DTSTART:20261101T060000
END:STANDARD
END:VTIMEZONE
BEGIN:VEVENT
DTSTART;TZID=America/Toronto:20251107T180000
DTEND;TZID=America/Toronto:20251107T203000
DTSTAMP:20260424T163104
CREATED:20250924T165509Z
LAST-MODIFIED:20250924T165509Z
UID:2404-1762538400-1762547400@ohanawellness.ca
SUMMARY:Ecstatic Dance and Potluck
DESCRIPTION:Ecstatic Dance and Potluck\nFriday November 7th: Dance 6 – 7 PM\, Potluck 7-8:30PM\n\nCome join us to dance and/or to eat! Ecstatic Dance is a “letting go” form of dance which is done substances free\, generally without talking\, and listening to a variety of music. Any engagement including sitting\, lying down\, or any form of dance is allowed\, with the caveat that there is always respect other peoples expression and space. \n\nNo Prior Experience required! We will start with a brief explanation about Ecstatic Dance and its role in self expression and somatic processing. \nPot Luck: Bring whatever you want to share with the group. You are also invited to attend the dance and skip the food. \nQuestions: Contact Aaron at community@ohanawellness.ca \n\nLocation: Ohana Yoga & Wellness Centre\n1436 Main St. N. Callander ON P0H 1H0\n705 752 0294 or text705 493 0692
URL:https://ohanawellness.ca/event/ecstatic-dance-and-potluck/
LOCATION:Ohana Health and Wellness\, 1436 Main st N\, Callander\, ON\, P0H1H0\, Canada
ATTACH;FMTTYPE=image/jpeg:https://ohanawellness.ca/wp-content/uploads/2025/09/Ecstatic-Dance.jpg
END:VEVENT
END:VCALENDAR